BEGIN:VCALENDAR
VERSION:2.0
PRODID:-//We Don&#039;t Waste - ECPv6.15.20//NONSGML v1.0//EN
CALSCALE:GREGORIAN
METHOD:PUBLISH
X-ORIGINAL-URL:https://www.wedontwaste.org
X-WR-CALDESC:Events for We Don&#039;t Waste
REFRESH-INTERVAL;VALUE=DURATION:PT1H
X-Robots-Tag:noindex
X-PUBLISHED-TTL:PT1H
BEGIN:VTIMEZONE
TZID:America/Denver
BEGIN:DAYLIGHT
TZOFFSETFROM:-0700
TZOFFSETTO:-0600
TZNAME:MDT
DTSTART:20250309T090000
END:DAYLIGHT
BEGIN:STANDARD
TZOFFSETFROM:-0600
TZOFFSETTO:-0700
TZNAME:MST
DTSTART:20251102T080000
END:STANDARD
BEGIN:DAYLIGHT
TZOFFSETFROM:-0700
TZOFFSETTO:-0600
TZNAME:MDT
DTSTART:20260308T090000
END:DAYLIGHT
BEGIN:STANDARD
TZOFFSETFROM:-0600
TZOFFSETTO:-0700
TZNAME:MST
DTSTART:20261101T080000
END:STANDARD
BEGIN:DAYLIGHT
TZOFFSETFROM:-0700
TZOFFSETTO:-0600
TZNAME:MDT
DTSTART:20270314T090000
END:DAYLIGHT
BEGIN:STANDARD
TZOFFSETFROM:-0600
TZOFFSETTO:-0700
TZNAME:MST
DTSTART:20271107T080000
END:STANDARD
BEGIN:DAYLIGHT
TZOFFSETFROM:-0700
TZOFFSETTO:-0600
TZNAME:MDT
DTSTART:20280312T090000
END:DAYLIGHT
BEGIN:STANDARD
TZOFFSETFROM:-0600
TZOFFSETTO:-0700
TZNAME:MST
DTSTART:20281105T080000
END:STANDARD
BEGIN:DAYLIGHT
TZOFFSETFROM:-0700
TZOFFSETTO:-0600
TZNAME:MDT
DTSTART:20290311T090000
END:DAYLIGHT
BEGIN:STANDARD
TZOFFSETFROM:-0600
TZOFFSETTO:-0700
TZNAME:MST
DTSTART:20291104T080000
END:STANDARD
END:VTIMEZONE
BEGIN:VEVENT
DTSTART;TZID=America/Denver:20260424T110000
DTEND;TZID=America/Denver:20260424T130000
DTSTAMP:20260421T041856
CREATED:20251104T155748Z
LAST-MODIFIED:20260304T184628Z
UID:10007981-1777028400-1777035600@www.wedontwaste.org
SUMMARY:Mobile Food Market - Mile Hi Church (9077 W Alameda Ave\, Lakewood)
DESCRIPTION:FOOD IS FREE AND AVAILABLE TO EVERYONE!
URL:https://www.wedontwaste.org/event/mobile-food-market-mile-hi-church-9077-w-alameda-ave-lakewood/2026-04-24/
LOCATION:Mile Hi Church\, 9077 W Alameda Ave\, Lakewood\, CO\, 80226\, United States
CATEGORIES:Mobile Food Markets
END:VEVENT
BEGIN:VEVENT
DTSTART;TZID=America/Denver:20260522T110000
DTEND;TZID=America/Denver:20260522T130000
DTSTAMP:20260421T041856
CREATED:20251104T155748Z
LAST-MODIFIED:20260304T184628Z
UID:10007982-1779447600-1779454800@www.wedontwaste.org
SUMMARY:Mobile Food Market - Mile Hi Church (9077 W Alameda Ave\, Lakewood)
DESCRIPTION:FOOD IS FREE AND AVAILABLE TO EVERYONE!
URL:https://www.wedontwaste.org/event/mobile-food-market-mile-hi-church-9077-w-alameda-ave-lakewood/2026-05-22/
LOCATION:Mile Hi Church\, 9077 W Alameda Ave\, Lakewood\, CO\, 80226\, United States
CATEGORIES:Mobile Food Markets
END:VEVENT
BEGIN:VEVENT
DTSTART;TZID=America/Denver:20260626T110000
DTEND;TZID=America/Denver:20260626T130000
DTSTAMP:20260421T041856
CREATED:20251104T155748Z
LAST-MODIFIED:20260304T184628Z
UID:10007983-1782471600-1782478800@www.wedontwaste.org
SUMMARY:Mobile Food Market - Mile Hi Church (9077 W Alameda Ave\, Lakewood)
DESCRIPTION:FOOD IS FREE AND AVAILABLE TO EVERYONE!
URL:https://www.wedontwaste.org/event/mobile-food-market-mile-hi-church-9077-w-alameda-ave-lakewood/2026-06-26/
LOCATION:Mile Hi Church\, 9077 W Alameda Ave\, Lakewood\, CO\, 80226\, United States
CATEGORIES:Mobile Food Markets
END:VEVENT
BEGIN:VEVENT
DTSTART;TZID=America/Denver:20260724T110000
DTEND;TZID=America/Denver:20260724T130000
DTSTAMP:20260421T041856
CREATED:20251104T155748Z
LAST-MODIFIED:20260304T184628Z
UID:10007984-1784890800-1784898000@www.wedontwaste.org
SUMMARY:Mobile Food Market - Mile Hi Church (9077 W Alameda Ave\, Lakewood)
DESCRIPTION:FOOD IS FREE AND AVAILABLE TO EVERYONE!
URL:https://www.wedontwaste.org/event/mobile-food-market-mile-hi-church-9077-w-alameda-ave-lakewood/2026-07-24/
LOCATION:Mile Hi Church\, 9077 W Alameda Ave\, Lakewood\, CO\, 80226\, United States
CATEGORIES:Mobile Food Markets
END:VEVENT
BEGIN:VEVENT
DTSTART;TZID=America/Denver:20260828T110000
DTEND;TZID=America/Denver:20260828T130000
DTSTAMP:20260421T041856
CREATED:20251104T155748Z
LAST-MODIFIED:20260304T184628Z
UID:10007985-1787914800-1787922000@www.wedontwaste.org
SUMMARY:Mobile Food Market - Mile Hi Church (9077 W Alameda Ave\, Lakewood)
DESCRIPTION:FOOD IS FREE AND AVAILABLE TO EVERYONE!
URL:https://www.wedontwaste.org/event/mobile-food-market-mile-hi-church-9077-w-alameda-ave-lakewood/2026-08-28/
LOCATION:Mile Hi Church\, 9077 W Alameda Ave\, Lakewood\, CO\, 80226\, United States
CATEGORIES:Mobile Food Markets
END:VEVENT
BEGIN:VEVENT
DTSTART;TZID=America/Denver:20260925T110000
DTEND;TZID=America/Denver:20260925T130000
DTSTAMP:20260421T041856
CREATED:20251104T155748Z
LAST-MODIFIED:20260304T184628Z
UID:10007986-1790334000-1790341200@www.wedontwaste.org
SUMMARY:Mobile Food Market - Mile Hi Church (9077 W Alameda Ave\, Lakewood)
DESCRIPTION:FOOD IS FREE AND AVAILABLE TO EVERYONE!
URL:https://www.wedontwaste.org/event/mobile-food-market-mile-hi-church-9077-w-alameda-ave-lakewood/2026-09-25/
LOCATION:Mile Hi Church\, 9077 W Alameda Ave\, Lakewood\, CO\, 80226\, United States
CATEGORIES:Mobile Food Markets
END:VEVENT
BEGIN:VEVENT
DTSTART;TZID=America/Denver:20261023T110000
DTEND;TZID=America/Denver:20261023T130000
DTSTAMP:20260421T041856
CREATED:20251104T155748Z
LAST-MODIFIED:20260304T184628Z
UID:10007987-1792753200-1792760400@www.wedontwaste.org
SUMMARY:Mobile Food Market - Mile Hi Church (9077 W Alameda Ave\, Lakewood)
DESCRIPTION:FOOD IS FREE AND AVAILABLE TO EVERYONE!
URL:https://www.wedontwaste.org/event/mobile-food-market-mile-hi-church-9077-w-alameda-ave-lakewood/2026-10-23/
LOCATION:Mile Hi Church\, 9077 W Alameda Ave\, Lakewood\, CO\, 80226\, United States
CATEGORIES:Mobile Food Markets
END:VEVENT
BEGIN:VEVENT
DTSTART;TZID=America/Denver:20261127T110000
DTEND;TZID=America/Denver:20261127T130000
DTSTAMP:20260421T041856
CREATED:20251104T155748Z
LAST-MODIFIED:20260304T184628Z
UID:10007988-1795777200-1795784400@www.wedontwaste.org
SUMMARY:Mobile Food Market - Mile Hi Church (9077 W Alameda Ave\, Lakewood)
DESCRIPTION:FOOD IS FREE AND AVAILABLE TO EVERYONE!
URL:https://www.wedontwaste.org/event/mobile-food-market-mile-hi-church-9077-w-alameda-ave-lakewood/2026-11-27/
LOCATION:Mile Hi Church\, 9077 W Alameda Ave\, Lakewood\, CO\, 80226\, United States
CATEGORIES:Mobile Food Markets
END:VEVENT
BEGIN:VEVENT
DTSTART;TZID=America/Denver:20261225T110000
DTEND;TZID=America/Denver:20261225T130000
DTSTAMP:20260421T041856
CREATED:20251104T155748Z
LAST-MODIFIED:20260304T184628Z
UID:10007989-1798196400-1798203600@www.wedontwaste.org
SUMMARY:Mobile Food Market - Mile Hi Church (9077 W Alameda Ave\, Lakewood)
DESCRIPTION:FOOD IS FREE AND AVAILABLE TO EVERYONE!
URL:https://www.wedontwaste.org/event/mobile-food-market-mile-hi-church-9077-w-alameda-ave-lakewood/2026-12-25/
LOCATION:Mile Hi Church\, 9077 W Alameda Ave\, Lakewood\, CO\, 80226\, United States
CATEGORIES:Mobile Food Markets
END:VEVENT
BEGIN:VEVENT
DTSTART;TZID=America/Denver:20270122T110000
DTEND;TZID=America/Denver:20270122T130000
DTSTAMP:20260421T041856
CREATED:20251104T155748Z
LAST-MODIFIED:20260304T184628Z
UID:10007990-1800615600-1800622800@www.wedontwaste.org
SUMMARY:Mobile Food Market - Mile Hi Church (9077 W Alameda Ave\, Lakewood)
DESCRIPTION:FOOD IS FREE AND AVAILABLE TO EVERYONE!
URL:https://www.wedontwaste.org/event/mobile-food-market-mile-hi-church-9077-w-alameda-ave-lakewood/2027-01-22/
LOCATION:Mile Hi Church\, 9077 W Alameda Ave\, Lakewood\, CO\, 80226\, United States
CATEGORIES:Mobile Food Markets
END:VEVENT
BEGIN:VEVENT
DTSTART;TZID=America/Denver:20270226T110000
DTEND;TZID=America/Denver:20270226T130000
DTSTAMP:20260421T041856
CREATED:20251104T155748Z
LAST-MODIFIED:20260304T184628Z
UID:10007991-1803639600-1803646800@www.wedontwaste.org
SUMMARY:Mobile Food Market - Mile Hi Church (9077 W Alameda Ave\, Lakewood)
DESCRIPTION:FOOD IS FREE AND AVAILABLE TO EVERYONE!
URL:https://www.wedontwaste.org/event/mobile-food-market-mile-hi-church-9077-w-alameda-ave-lakewood/2027-02-26/
LOCATION:Mile Hi Church\, 9077 W Alameda Ave\, Lakewood\, CO\, 80226\, United States
CATEGORIES:Mobile Food Markets
END:VEVENT
BEGIN:VEVENT
DTSTART;TZID=America/Denver:20270326T110000
DTEND;TZID=America/Denver:20270326T130000
DTSTAMP:20260421T041856
CREATED:20251104T155748Z
LAST-MODIFIED:20260304T184628Z
UID:10007992-1806058800-1806066000@www.wedontwaste.org
SUMMARY:Mobile Food Market - Mile Hi Church (9077 W Alameda Ave\, Lakewood)
DESCRIPTION:FOOD IS FREE AND AVAILABLE TO EVERYONE!
URL:https://www.wedontwaste.org/event/mobile-food-market-mile-hi-church-9077-w-alameda-ave-lakewood/2027-03-26/
LOCATION:Mile Hi Church\, 9077 W Alameda Ave\, Lakewood\, CO\, 80226\, United States
CATEGORIES:Mobile Food Markets
END:VEVENT
BEGIN:VEVENT
DTSTART;TZID=America/Denver:20270423T110000
DTEND;TZID=America/Denver:20270423T130000
DTSTAMP:20260421T041856
CREATED:20251104T155748Z
LAST-MODIFIED:20260304T184628Z
UID:10007993-1808478000-1808485200@www.wedontwaste.org
SUMMARY:Mobile Food Market - Mile Hi Church (9077 W Alameda Ave\, Lakewood)
DESCRIPTION:FOOD IS FREE AND AVAILABLE TO EVERYONE!
URL:https://www.wedontwaste.org/event/mobile-food-market-mile-hi-church-9077-w-alameda-ave-lakewood/2027-04-23/
LOCATION:Mile Hi Church\, 9077 W Alameda Ave\, Lakewood\, CO\, 80226\, United States
CATEGORIES:Mobile Food Markets
END:VEVENT
BEGIN:VEVENT
DTSTART;TZID=America/Denver:20270528T110000
DTEND;TZID=America/Denver:20270528T130000
DTSTAMP:20260421T041856
CREATED:20251104T155748Z
LAST-MODIFIED:20260304T184628Z
UID:10007994-1811502000-1811509200@www.wedontwaste.org
SUMMARY:Mobile Food Market - Mile Hi Church (9077 W Alameda Ave\, Lakewood)
DESCRIPTION:FOOD IS FREE AND AVAILABLE TO EVERYONE!
URL:https://www.wedontwaste.org/event/mobile-food-market-mile-hi-church-9077-w-alameda-ave-lakewood/2027-05-28/
LOCATION:Mile Hi Church\, 9077 W Alameda Ave\, Lakewood\, CO\, 80226\, United States
CATEGORIES:Mobile Food Markets
END:VEVENT
BEGIN:VEVENT
DTSTART;TZID=America/Denver:20270625T110000
DTEND;TZID=America/Denver:20270625T130000
DTSTAMP:20260421T041856
CREATED:20251104T155748Z
LAST-MODIFIED:20260304T184628Z
UID:10007995-1813921200-1813928400@www.wedontwaste.org
SUMMARY:Mobile Food Market - Mile Hi Church (9077 W Alameda Ave\, Lakewood)
DESCRIPTION:FOOD IS FREE AND AVAILABLE TO EVERYONE!
URL:https://www.wedontwaste.org/event/mobile-food-market-mile-hi-church-9077-w-alameda-ave-lakewood/2027-06-25/
LOCATION:Mile Hi Church\, 9077 W Alameda Ave\, Lakewood\, CO\, 80226\, United States
CATEGORIES:Mobile Food Markets
END:VEVENT
BEGIN:VEVENT
DTSTART;TZID=America/Denver:20270723T110000
DTEND;TZID=America/Denver:20270723T130000
DTSTAMP:20260421T041856
CREATED:20251104T155748Z
LAST-MODIFIED:20260304T184628Z
UID:10007996-1816340400-1816347600@www.wedontwaste.org
SUMMARY:Mobile Food Market - Mile Hi Church (9077 W Alameda Ave\, Lakewood)
DESCRIPTION:FOOD IS FREE AND AVAILABLE TO EVERYONE!
URL:https://www.wedontwaste.org/event/mobile-food-market-mile-hi-church-9077-w-alameda-ave-lakewood/2027-07-23/
LOCATION:Mile Hi Church\, 9077 W Alameda Ave\, Lakewood\, CO\, 80226\, United States
CATEGORIES:Mobile Food Markets
END:VEVENT
BEGIN:VEVENT
DTSTART;TZID=America/Denver:20270827T110000
DTEND;TZID=America/Denver:20270827T130000
DTSTAMP:20260421T041856
CREATED:20251104T155748Z
LAST-MODIFIED:20260304T184628Z
UID:10007997-1819364400-1819371600@www.wedontwaste.org
SUMMARY:Mobile Food Market - Mile Hi Church (9077 W Alameda Ave\, Lakewood)
DESCRIPTION:FOOD IS FREE AND AVAILABLE TO EVERYONE!
URL:https://www.wedontwaste.org/event/mobile-food-market-mile-hi-church-9077-w-alameda-ave-lakewood/2027-08-27/
LOCATION:Mile Hi Church\, 9077 W Alameda Ave\, Lakewood\, CO\, 80226\, United States
CATEGORIES:Mobile Food Markets
END:VEVENT
BEGIN:VEVENT
DTSTART;TZID=America/Denver:20270924T110000
DTEND;TZID=America/Denver:20270924T130000
DTSTAMP:20260421T041856
CREATED:20251104T155748Z
LAST-MODIFIED:20260304T184628Z
UID:10007998-1821783600-1821790800@www.wedontwaste.org
SUMMARY:Mobile Food Market - Mile Hi Church (9077 W Alameda Ave\, Lakewood)
DESCRIPTION:FOOD IS FREE AND AVAILABLE TO EVERYONE!
URL:https://www.wedontwaste.org/event/mobile-food-market-mile-hi-church-9077-w-alameda-ave-lakewood/2027-09-24/
LOCATION:Mile Hi Church\, 9077 W Alameda Ave\, Lakewood\, CO\, 80226\, United States
CATEGORIES:Mobile Food Markets
END:VEVENT
BEGIN:VEVENT
DTSTART;TZID=America/Denver:20271022T110000
DTEND;TZID=America/Denver:20271022T130000
DTSTAMP:20260421T041856
CREATED:20251104T155748Z
LAST-MODIFIED:20260304T184628Z
UID:10007999-1824202800-1824210000@www.wedontwaste.org
SUMMARY:Mobile Food Market - Mile Hi Church (9077 W Alameda Ave\, Lakewood)
DESCRIPTION:FOOD IS FREE AND AVAILABLE TO EVERYONE!
URL:https://www.wedontwaste.org/event/mobile-food-market-mile-hi-church-9077-w-alameda-ave-lakewood/2027-10-22/
LOCATION:Mile Hi Church\, 9077 W Alameda Ave\, Lakewood\, CO\, 80226\, United States
CATEGORIES:Mobile Food Markets
END:VEVENT
BEGIN:VEVENT
DTSTART;TZID=America/Denver:20271126T110000
DTEND;TZID=America/Denver:20271126T130000
DTSTAMP:20260421T041856
CREATED:20251104T155748Z
LAST-MODIFIED:20260304T184628Z
UID:10008000-1827226800-1827234000@www.wedontwaste.org
SUMMARY:Mobile Food Market - Mile Hi Church (9077 W Alameda Ave\, Lakewood)
DESCRIPTION:FOOD IS FREE AND AVAILABLE TO EVERYONE!
URL:https://www.wedontwaste.org/event/mobile-food-market-mile-hi-church-9077-w-alameda-ave-lakewood/2027-11-26/
LOCATION:Mile Hi Church\, 9077 W Alameda Ave\, Lakewood\, CO\, 80226\, United States
CATEGORIES:Mobile Food Markets
END:VEVENT
BEGIN:VEVENT
DTSTART;TZID=America/Denver:20271224T110000
DTEND;TZID=America/Denver:20271224T130000
DTSTAMP:20260421T041856
CREATED:20251104T155748Z
LAST-MODIFIED:20260304T184628Z
UID:10008001-1829646000-1829653200@www.wedontwaste.org
SUMMARY:Mobile Food Market - Mile Hi Church (9077 W Alameda Ave\, Lakewood)
DESCRIPTION:FOOD IS FREE AND AVAILABLE TO EVERYONE!
URL:https://www.wedontwaste.org/event/mobile-food-market-mile-hi-church-9077-w-alameda-ave-lakewood/2027-12-24/
LOCATION:Mile Hi Church\, 9077 W Alameda Ave\, Lakewood\, CO\, 80226\, United States
CATEGORIES:Mobile Food Markets
END:VEVENT
BEGIN:VEVENT
DTSTART;TZID=America/Denver:20280128T110000
DTEND;TZID=America/Denver:20280128T130000
DTSTAMP:20260421T041856
CREATED:20251104T155748Z
LAST-MODIFIED:20260304T184628Z
UID:10008002-1832670000-1832677200@www.wedontwaste.org
SUMMARY:Mobile Food Market - Mile Hi Church (9077 W Alameda Ave\, Lakewood)
DESCRIPTION:FOOD IS FREE AND AVAILABLE TO EVERYONE!
URL:https://www.wedontwaste.org/event/mobile-food-market-mile-hi-church-9077-w-alameda-ave-lakewood/2028-01-28/
LOCATION:Mile Hi Church\, 9077 W Alameda Ave\, Lakewood\, CO\, 80226\, United States
CATEGORIES:Mobile Food Markets
END:VEVENT
BEGIN:VEVENT
DTSTART;TZID=America/Denver:20280225T110000
DTEND;TZID=America/Denver:20280225T130000
DTSTAMP:20260421T041856
CREATED:20251104T155748Z
LAST-MODIFIED:20260304T184628Z
UID:10008003-1835089200-1835096400@www.wedontwaste.org
SUMMARY:Mobile Food Market - Mile Hi Church (9077 W Alameda Ave\, Lakewood)
DESCRIPTION:FOOD IS FREE AND AVAILABLE TO EVERYONE!
URL:https://www.wedontwaste.org/event/mobile-food-market-mile-hi-church-9077-w-alameda-ave-lakewood/2028-02-25/
LOCATION:Mile Hi Church\, 9077 W Alameda Ave\, Lakewood\, CO\, 80226\, United States
CATEGORIES:Mobile Food Markets
END:VEVENT
BEGIN:VEVENT
DTSTART;TZID=America/Denver:20280324T110000
DTEND;TZID=America/Denver:20280324T130000
DTSTAMP:20260421T041856
CREATED:20251104T155748Z
LAST-MODIFIED:20260304T184628Z
UID:10008004-1837508400-1837515600@www.wedontwaste.org
SUMMARY:Mobile Food Market - Mile Hi Church (9077 W Alameda Ave\, Lakewood)
DESCRIPTION:FOOD IS FREE AND AVAILABLE TO EVERYONE!
URL:https://www.wedontwaste.org/event/mobile-food-market-mile-hi-church-9077-w-alameda-ave-lakewood/2028-03-24/
LOCATION:Mile Hi Church\, 9077 W Alameda Ave\, Lakewood\, CO\, 80226\, United States
CATEGORIES:Mobile Food Markets
END:VEVENT
BEGIN:VEVENT
DTSTART;TZID=America/Denver:20280428T110000
DTEND;TZID=America/Denver:20280428T130000
DTSTAMP:20260421T041856
CREATED:20251104T155748Z
LAST-MODIFIED:20260304T184628Z
UID:10008005-1840532400-1840539600@www.wedontwaste.org
SUMMARY:Mobile Food Market - Mile Hi Church (9077 W Alameda Ave\, Lakewood)
DESCRIPTION:FOOD IS FREE AND AVAILABLE TO EVERYONE!
URL:https://www.wedontwaste.org/event/mobile-food-market-mile-hi-church-9077-w-alameda-ave-lakewood/2028-04-28/
LOCATION:Mile Hi Church\, 9077 W Alameda Ave\, Lakewood\, CO\, 80226\, United States
CATEGORIES:Mobile Food Markets
END:VEVENT
BEGIN:VEVENT
DTSTART;TZID=America/Denver:20280526T110000
DTEND;TZID=America/Denver:20280526T130000
DTSTAMP:20260421T041856
CREATED:20251104T155748Z
LAST-MODIFIED:20260304T184628Z
UID:10008006-1842951600-1842958800@www.wedontwaste.org
SUMMARY:Mobile Food Market - Mile Hi Church (9077 W Alameda Ave\, Lakewood)
DESCRIPTION:FOOD IS FREE AND AVAILABLE TO EVERYONE!
URL:https://www.wedontwaste.org/event/mobile-food-market-mile-hi-church-9077-w-alameda-ave-lakewood/2028-05-26/
LOCATION:Mile Hi Church\, 9077 W Alameda Ave\, Lakewood\, CO\, 80226\, United States
CATEGORIES:Mobile Food Markets
END:VEVENT
BEGIN:VEVENT
DTSTART;TZID=America/Denver:20280623T110000
DTEND;TZID=America/Denver:20280623T130000
DTSTAMP:20260421T041856
CREATED:20251104T155748Z
LAST-MODIFIED:20260304T184628Z
UID:10008007-1845370800-1845378000@www.wedontwaste.org
SUMMARY:Mobile Food Market - Mile Hi Church (9077 W Alameda Ave\, Lakewood)
DESCRIPTION:FOOD IS FREE AND AVAILABLE TO EVERYONE!
URL:https://www.wedontwaste.org/event/mobile-food-market-mile-hi-church-9077-w-alameda-ave-lakewood/2028-06-23/
LOCATION:Mile Hi Church\, 9077 W Alameda Ave\, Lakewood\, CO\, 80226\, United States
CATEGORIES:Mobile Food Markets
END:VEVENT
BEGIN:VEVENT
DTSTART;TZID=America/Denver:20280728T110000
DTEND;TZID=America/Denver:20280728T130000
DTSTAMP:20260421T041856
CREATED:20251104T155748Z
LAST-MODIFIED:20260304T184628Z
UID:10008008-1848394800-1848402000@www.wedontwaste.org
SUMMARY:Mobile Food Market - Mile Hi Church (9077 W Alameda Ave\, Lakewood)
DESCRIPTION:FOOD IS FREE AND AVAILABLE TO EVERYONE!
URL:https://www.wedontwaste.org/event/mobile-food-market-mile-hi-church-9077-w-alameda-ave-lakewood/2028-07-28/
LOCATION:Mile Hi Church\, 9077 W Alameda Ave\, Lakewood\, CO\, 80226\, United States
CATEGORIES:Mobile Food Markets
END:VEVENT
BEGIN:VEVENT
DTSTART;TZID=America/Denver:20280825T110000
DTEND;TZID=America/Denver:20280825T130000
DTSTAMP:20260421T041856
CREATED:20251104T155748Z
LAST-MODIFIED:20260304T184628Z
UID:10008009-1850814000-1850821200@www.wedontwaste.org
SUMMARY:Mobile Food Market - Mile Hi Church (9077 W Alameda Ave\, Lakewood)
DESCRIPTION:FOOD IS FREE AND AVAILABLE TO EVERYONE!
URL:https://www.wedontwaste.org/event/mobile-food-market-mile-hi-church-9077-w-alameda-ave-lakewood/2028-08-25/
LOCATION:Mile Hi Church\, 9077 W Alameda Ave\, Lakewood\, CO\, 80226\, United States
CATEGORIES:Mobile Food Markets
END:VEVENT
BEGIN:VEVENT
DTSTART;TZID=America/Denver:20280922T110000
DTEND;TZID=America/Denver:20280922T130000
DTSTAMP:20260421T041856
CREATED:20251104T155748Z
LAST-MODIFIED:20260304T184628Z
UID:10008010-1853233200-1853240400@www.wedontwaste.org
SUMMARY:Mobile Food Market - Mile Hi Church (9077 W Alameda Ave\, Lakewood)
DESCRIPTION:FOOD IS FREE AND AVAILABLE TO EVERYONE!
URL:https://www.wedontwaste.org/event/mobile-food-market-mile-hi-church-9077-w-alameda-ave-lakewood/2028-09-22/
LOCATION:Mile Hi Church\, 9077 W Alameda Ave\, Lakewood\, CO\, 80226\, United States
CATEGORIES:Mobile Food Markets
END:VEVENT
END:VCALENDAR